BEGIN:VCALENDAR
VERSION:2.0
PRODID:-//Sylvania Community Stores and Café - ECPv6.15.20//NONSGML v1.0//EN
CALSCALE:GREGORIAN
METHOD:PUBLISH
X-WR-CALNAME:Sylvania Community Stores and Café
X-ORIGINAL-URL:https://sylvaniastores.com
X-WR-CALDESC:Events for Sylvania Community Stores and Café
REFRESH-INTERVAL;VALUE=DURATION:PT1H
X-Robots-Tag:noindex
X-PUBLISHED-TTL:PT1H
BEGIN:VTIMEZONE
TZID:Europe/London
BEGIN:DAYLIGHT
TZOFFSETFROM:+0000
TZOFFSETTO:+0100
TZNAME:BST
DTSTART:20250330T010000
END:DAYLIGHT
BEGIN:STANDARD
TZOFFSETFROM:+0100
TZOFFSETTO:+0000
TZNAME:GMT
DTSTART:20251026T010000
END:STANDARD
BEGIN:DAYLIGHT
TZOFFSETFROM:+0000
TZOFFSETTO:+0100
TZNAME:BST
DTSTART:20260329T010000
END:DAYLIGHT
BEGIN:STANDARD
TZOFFSETFROM:+0100
TZOFFSETTO:+0000
TZNAME:GMT
DTSTART:20261025T010000
END:STANDARD
BEGIN:DAYLIGHT
TZOFFSETFROM:+0000
TZOFFSETTO:+0100
TZNAME:BST
DTSTART:20270328T010000
END:DAYLIGHT
BEGIN:STANDARD
TZOFFSETFROM:+0100
TZOFFSETTO:+0000
TZNAME:GMT
DTSTART:20271031T010000
END:STANDARD
END:VTIMEZONE
BEGIN:VEVENT
DTSTART;TZID=Europe/London:20260415T110000
DTEND;TZID=Europe/London:20260415T140000
DTSTAMP:20260421T121151
CREATED:20260412T213838Z
LAST-MODIFIED:20260412T213838Z
UID:809-1776250800-1776261600@sylvaniastores.com
SUMMARY:Pizza Decorating
DESCRIPTION:Come and top your own pizza and we’ll cook it for you to enjoy.
URL:https://sylvaniastores.com/event/pizza-decorating/
LOCATION:Sylvania Comminity Stores & Café\, 1 Sylvania Drive\, Exeter\, Devon\, EX4 5DT\, United Kingdom
ORGANIZER;CN="Sylvania Community Stores & Cafe":MAILTO:pennstores.ex4@gmail.com
END:VEVENT
BEGIN:VEVENT
DTSTART;TZID=Europe/London:20260415T093000
DTEND;TZID=Europe/London:20260415T113000
DTSTAMP:20260421T121151
CREATED:20260412T213723Z
LAST-MODIFIED:20260412T213723Z
UID:807-1776245400-1776252600@sylvaniastores.com
SUMMARY:Little Ones (15 April 2026)
DESCRIPTION:Join our weekly pre-school group for stories & craft
URL:https://sylvaniastores.com/event/little-ones-15-april-2026/
LOCATION:Sylvania Comminity Stores & Café\, 1 Sylvania Drive\, Exeter\, Devon\, EX4 5DT\, United Kingdom
ORGANIZER;CN="Sylvania Community Stores & Cafe":MAILTO:pennstores.ex4@gmail.com
END:VEVENT
BEGIN:VEVENT
DTSTART;TZID=Europe/London:20260413T100000
DTEND;TZID=Europe/London:20260413T110000
DTSTAMP:20260421T121151
CREATED:20260412T213550Z
LAST-MODIFIED:20260412T213550Z
UID:805-1776074400-1776078000@sylvaniastores.com
SUMMARY:Grass Head Making
DESCRIPTION:Come and make a grass head ‘person’! Take them home and watch their hair grow.
URL:https://sylvaniastores.com/event/grass-head-making/
LOCATION:Sylvania Comminity Stores & Café\, 1 Sylvania Drive\, Exeter\, Devon\, EX4 5DT\, United Kingdom
ORGANIZER;CN="Sylvania Community Stores & Cafe":MAILTO:pennstores.ex4@gmail.com
END:VEVENT
END:VCALENDAR